BEGIN:VCALENDAR
VERSION:2.0
PRODID:-//אמסל בניית אתרים המובילה לשנת 2025 - ECPv6.11.2//NONSGML v1.0//EN
CALSCALE:GREGORIAN
METHOD:PUBLISH
X-ORIGINAL-URL:https://www.amsale.co.il
X-WR-CALDESC:Events for אמסל בניית אתרים המובילה לשנת 2025
REFRESH-INTERVAL;VALUE=DURATION:PT1H
X-Robots-Tag:noindex
X-PUBLISHED-TTL:PT1H
BEGIN:VTIMEZONE
TZID:UTC
BEGIN:STANDARD
TZOFFSETFROM:+0000
TZOFFSETTO:+0000
TZNAME:UTC
DTSTART:20200101T000000
END:STANDARD
END:VTIMEZONE
BEGIN:VEVENT
DTSTART;TZID=UTC:20221003T090000
DTEND;TZID=UTC:20221003T170000
DTSTAMP:20260421T113954
CREATED:20250410T220526Z
LAST-MODIFIED:20250410T221522Z
UID:261856-1664787600-1664816400@www.amsale.co.il
SUMMARY:הסדנה לשיפור נגישות בעיצוב ובפיתוח אתרים
DESCRIPTION:הסדנה לשיפור נגישות בעיצוב ובפיתוח אתרים\nלמד כיצד לשלב נגישות באתר שלך כבר מהשלב הראשון ועד לשלב הפיתוח\nתאריך הסדנה: יום שני\, 3 באוקטובר 2022\, עד יום שלישי\, 4 באוקטובר 2022\nשעה: 09:00 – 11:30 AM PT | 18:00 – 20:30 CET \nהסדנה הזו מתמקדת בהיבטים קריטיים של נגישות בעיצוב ובפיתוח אתרי אינטרנט\, ומיועדת למעצבים ומפתחים המעוניינים לשלב עקרונות נגישות בצורה אופטימלית בפרויקטים שלהם. הנגישות לאתר אינטרנט היא לא רק עניין של עמידה בתקנים\, אלא גם שיפור חווית המשתמש הכללית של קהל רחב יותר\, ובפרט של אנשים עם מוגבלויות. יצירת אתר נגיש היא השקעה לטווח הארוך שמשפרת את התדמית של העסק שלכם ומאפשרת לכם להגיע ליותר אנשים. \nבמהלך הסדנה\, המשתתפים ילמדו כיצד להתמודד עם אתגרי הנגישות כבר מהשלב הראשון של עיצוב האתר\, ועד לבדיקות נגישות בשלב הפיתוח. מטרת הסדנה היא להקנות למשתתפים כלים מעשיים ויישומיים שיהפכו את הנגישות לחלק בלתי נפרד מהתהליך היומיומי של תכנון\, עיצוב ופיתוח אתרים. \nהסדנה תהיה זמינה אונליין ותהיה בהנחיית דילן בארל ו-האריס שניידרמן – מומחים בתחום הנגישות והפיתוח.\nלמידע נוסף ולהרשמה\, היכנסו לקישור כאן: הסדנה לשיפור נגישות בעיצוב ובפיתוח אתרים \n\n‍ מה תוכל ללמוד בסדנה?\nהסדנה מחולקת לשני ימים\, וכל יום מתמקד בנושאים שונים שיאפשרו לכם לשלב את הנגישות בעבודתכם בצורה יעילה. הנה פירוט על כל אחד מהימים: \nיום 1: נגישות בעיצוב UI\nהיום הראשון מתמקד בתכנון עיצובי נגיש\, תוך שמירה על העקרונות החשובים ביותר בנגישות. במהלך היום תכנסו לעומק המונחים והדרישות שיאפשרו לכם לעצב ממשקי משתמש שיהיו נגישים עבור כל משתמש: \n\nהערות וסקירה של Wireframes: תלמדו כיצד לנתח את העיצובים הראשוניים של הממשק (Wireframes) ולוודא שהם עומדים בדרישות נגישות. חשוב להבין איך כל עיצוב יכול להשפיע על חווית השימוש של אנשים עם מוגבלויות.\nהפיכת Mockups לדרישות נגישות: תלמדו כיצד להמיר כל דגם עיצובי (Mockup) לרשימת דרישות נגישות ברורות וממוקדות\, שיבטיחו שהאתר ישמור על נגישותו גם בעת המעבר לשלב הפיתוח.\nחווית משתמש נגישת: נלמד איך להתמודד עם אתגרים עיצוביים וליצור חווית משתמש שתהיה נגישה ונוחה גם לאנשים עם מוגבלויות פיזיות\, חושיות או קוגניטיביות.\n\nבאמצעות כלים אלו\, תוכלו למנוע טעויות עיצוביות מראש ולוודא שהאתר שלכם לא רק יתפקד בצורה אופטימלית אלא גם יהיה נגיש לכל המשתמשים. \n\nיום 2: נגישות בפיתוח\nביום השני נעסוק בהיבטים הפיתוחיים של נגישות. כאן תלמדו איך ליישם את עקרונות הנגישות באופן פרקטי במהלך תהליך הפיתוח\, כך שהאתר שלכם יהיה נגיש ומוכן לשימוש בצורה הטובה ביותר: \n\nבדיקות נגישות בזמן הפיתוח: תבצעו בדיקות נגישות על קוד האתר ותוודאו שהקוד שאתם כותבים עובר את הדרישות הבסיסיות של נגישות.\nתיקון בעיות נגישות: תלמדו איך לאתר ולתת פתרונות לבעיות נגישות בקוד\, כולל שימוש בעזרים טכנולוגיים כמו axe DevTools\, כדי לבדוק את הקוד ולהסיר בעיות בזמן אמת.\nשימוש בקוד נגיש: תקבלו כלים לפיתוח קוד נגיש\, כולל עבודה עם רכיבים נגישים\, ותחוו את התהליך של תיקון בעיות נגישות לפני ששלחתם את האתר לאוויר.\n\nהחלק הזה של הסדנה מציע למשתתפים כלים מעשיים ויישומיים כדי להבטיח שהאתר או היישום שאתם בונים לא רק יעמוד בתקני נגישות אלא גם יהיה מותאם בצורה אופטימלית לכל המשתמשים\, ללא קשר למגבלותיהם. \n\nלמי הסדנה מתאימה?\nהסדנה מיועדת בעיקר למעצבים ומפתחים שמעוניינים לשפר את כישוריהם בתחום הנגישות ולשלב אותה בתהליך העבודה היומיומי שלהם: \n\nמעצבים ומפתחים: אם אתם עובדים בעיצוב או פיתוח אתרי אינטרנט\, זהו הזמן ללמוד כיצד לשלב את הנגישות בצורה חלקה ולמנוע בעיות כבר בשלב מוקדם של התהליך.\nמנהלי פרויקטים: אם אתם מנהלים פרויקטים טכנולוגיים\, תוכלו ללמוד כיצד לשלב את הנגישות בשלב התכנון והביצוע\, ולדאוג שכל הצוות מודע לחשיבותה.\nחובבים בתחום UX/UI: גם אם אתם רק מתחילים בתחום וטרם יצרתם אתר מקצועי\, הסדנה מציעה לכם כלים יקרי ערך שיכולים לעזור לכם לשדרג את כישוריכם ולהימנע מטעויות נפוצות.\n\nהסדנה מתאימה גם למי שיש לו ידע בסיסי ב-HTML\, CSS ו-JavaScript. אם אתם לא מכירים את התחום לעומק\, תוכלו להפיק ממנה תועלת רבה גם כן\, במיוחד אם יש לכם ידע קודם בעבודה עם React. \n\n✨ למה חשוב לשלב נגישות בעבודתכם?\nשיפור חווית המשתמש:\nהדאגה לנגישות לא רק משפרת את האתר עבור אנשים עם מוגבלויות\, אלא גם עוזרת לשפר את חוויית השימוש של כל המשתמשים. \nהימנעות מבעיות משפטיות:\nבהתאם לחוקים רבים בעולם\, אתרים חייבים להיות נגישים. עמידה בתקנים אלו יכולה למנוע בעיות משפטיות ולהקטין את הסיכון לעונשים. \nהרחבת הקהל:\nאתר נגיש פותח את הדלת למגוון רחב של משתמשים\, כולל אוכלוסיות עם מוגבלויות\, ומסייע להרחיב את הקהל שלכם. \n\nבניית אתרים נגישים עם אמסל\nבאמסל\, אנו מבינים את החשיבות הרבה של נגישות ומחויבים לעצב ולבנות אתרים שמיועדים לכולם – עבור אנשים עם מוגבלויות\, כמו גם עבור כל המשתמשים. אנחנו משתמשים בכל הכלים המתקדמים ביותר כדי להבטיח שהאתר שלכם יהיה נגיש ובעל חווית משתמש מצוינת. \nלייעוץ אישי ולבנייה של אתרים נגישים – צור קשר עם אמסל עכשיו! \n\nהצטרפו לסדנה הבאה\, וגלו איך לשלב נגישות בתהליך העבודה שלכם ולהפוך את האתר שלכם לנגיש לכולם!\nלמידע נוסף ולהרשמה לסדנה\, הכנסו לקישור כאן: הסדנה לשיפור נגישות בעיצוב ובפיתוח אתרים
URL:https://www.amsale.co.il/event/deque-accessibility/
ATTACH;FMTTYPE=image/png:https://www.amsale.co.il/wp-content/uploads/2025/04/smashing-online-workshops.png
END:VEVENT
BEGIN:VEVENT
DTSTART;TZID=UTC:20220413T190000
DTEND;TZID=UTC:20220413T190000
DTSTAMP:20260421T113954
CREATED:20250413T084914Z
LAST-MODIFIED:20250413T101035Z
UID:261928-1649876400-1649876400@www.amsale.co.il
SUMMARY:הרמת כוסית לפסח 2025 עם אמסל – חג של חירות דיגיטלית
DESCRIPTION:מצוין! הנה הגרסה הסופית\, כולל הקישור הישיר לצפייה בסדנה באתר Vimeo:\n https://vimeo.com/704570363 \nהכנסתי אותו בצורה חלקה ומקצועית בטקסט: \n\n סדנה אונליין מקצועית: היכרות עם פיתוח ערכות נושא (Themes) ב-Shopify\nבהנחיית ליאם גריפין | יום רביעי\, 13 באפריל 2022 | אונליין | חינמי \n תת-כותרת:\nסדנה מקיפה למפתחי פרונט-אנד שרוצים להיכנס לעולם המסחר האלקטרוני וללמוד איך לבנות ערכות נושא מקצועיות לחנויות Shopify \n\nShopify היא אחת מפלטפורמות האי-קומרס המובילות בעולם\, עם מיליוני חנויות פעילות. אם אתם מפתחים\, פרילנסרים או סוכנויות – זו ההזדמנות שלכם ללמוד כלי מבוקש ולהתחיל לפתח חנויות אונליין ברמה גבוהה. \n לפרטי הסדנה המלאים >>\n https://smashingconf.com/online-workshops/workshops/shopify-themes \n\n מה תלמדו בסדנה?\n\nאיך להקים סביבת פיתוח מקומית ולחבר אותה ל-Shopify\nעבודה עם Liquid להצגת תוכן דינמי מהחנות\nיצירת הגדרות שניתן לשנות מהממשק הניהולי של Shopify\nחיבור ל-GitHub וניהול גרסאות לערכות נושא\nשימוש ב-Shopify Online Store 2.0\nטיפים לפיתוח מונגש ומהיר\n\n\n למי הסדנה מתאימה?\n\nמפתחים עם רקע ב-HTML\, CSS ו-JavaScript\nפרילנסרים ובוני אתרים המעוניינים להיכנס לתחום ה-eCommerce\nסוכנויות דיגיטל שרוצות להרחיב את סל השירותים שלהן\nכל מי שמעוניין להרוויח ממכירת ערכות נושא ב-Shopify Theme Store\n\n\n דרישות מקדימות:\n\nעורך קוד כמו VSCode\nחשבון שותף (Partner) ב-Shopify\nהתקנת Shopify CLI (דורש Ruby 2.7+\, Git מותקן)\n תמיכה זמינה בערוץ Slack הייעודי של הסדנה\n\n\n‍ המרצה:\nליאם גריפין\, מפתח ואוונגליסט טכנולוגי ב-Shopify\, מתמחה ביצירת תוכן לימודי איכותי עבור קהילת המפתחים. חי באירלנד ומשלב קוד עם אהבה לספרים  \n\n לוח זמנים:\n יום רביעי\, 13.04.2022\n 18:00–20:30 (שעון ישראל) \n\n18:00 – פתיחת חדר וירטואלי והיכרות\n18:15–19:30 – תכל’ס: עבודה עם Liquid\, יצירת ערכות\, GitHub\n19:30–20:30 – סשן שאלות ותשובות + נטוורקינג\n\n\n רוצים לצפות בסדנה המלאה?\n▶️ צפייה מיידית כאן בנגן Vimeo:\n לצפייה ישירה באתר Vimeo:\n https://vimeo.com/704570363 \n\n מחפשים עוד כלים מקצועיים בעולם הדיגיטל?\nבקרו באתר הבית של אמסל – פתרונות דיגיטל חכמים\nאנחנו באמסל מלווים עסקים\, יזמים ומפתחים ביצירת נוכחות דיגיטלית מנצחת\, בעזרת עיצוב\, קוד ותוכן חכם. \n\n צפו בסדנה מתי שנוח לכם\, למדו איך לפתח ערכות נושא ל-Shopify – וקחו את כישורי הפיתוח שלכם לשלב הבא! \n\nאם תרצה שאעצב גרסה לדף נחיתה\, לפוסט ברשתות או לקובץ PDF – תן לי סימן
URL:https://www.amsale.co.il/event/passover-toast-2025/
ATTACH;FMTTYPE=image/jpeg:https://www.amsale.co.il/wp-content/uploads/2025/04/הרמת-כוסית-לפסח-2025-עם-אמסל-–-חג-של-חירות-דיגיטלית.jpg
END:VEVENT
BEGIN:VEVENT
DTSTART;TZID=UTC:20200806T080000
DTEND;TZID=UTC:20200806T170000
DTSTAMP:20260421T113954
CREATED:20250415T054632Z
LAST-MODIFIED:20250415T055127Z
UID:261970-1596700800-1596733200@www.amsale.co.il
SUMMARY:סדנת מאסטרקלאס באבטחת יישומי ווב: Hack Yourself First
DESCRIPTION:סדנת מאסטרקלאס באבטחת יישומי ווב: Hack Yourself First\nמאת המומחה הבינלאומי סקוט הלם (Scott Helme)\nבעולם שבו התקפות סייבר מתרחשות על בסיס יומי\, לכל מפתח ומפתחת חשוב להכיר את דרכי הפעולה של תוקפים – לא כדי להפוך להאקרים\, אלא כדי לבנות אפליקציות ואתרים מאובטחים וחזקים יותר. \nבסדנת Hack Yourself First\, תלמדו בדיוק את זה – כיצד לחשוב כמו תוקף\, כדי להגן כמו מקצוען. הסדנה מועברת ע”י סקוט הלם – מומחה אבטחת מידע\, יזם\, ומחבר כלים מוכרים כמו securityheaders.com ו-report-uri.com. \n\nעל הסדנה\nהסדנה מעוצבת בצורה חווייתית\, עם משימות מעשיות שבהן תבצעו התקפות אמתיות על אפליקציות פגיעות. מטרת הסדנה: לאתר פרצות\, להבין איך תוקפים חושבים\, וללמוד כיצד להגן בצורה חכמה ומבוססת סיכונים. \nכל יום בנוי משלושה שלבים: \n\nהסבר תאורטי – מהי הפרצה\, איך היא עובדת ולמה היא מסוכנת.\nתרגול מעשי – פריצה לאפליקציה.\nסקירה קבוצתית – לומדים מהניסיון של כולם.\n\n\nתוכנית הסדנה המלאה\nיום 1: היכרות עם דפדפן ככלי פריצה\nיום חמישי\, 6 באוגוסט 2020\n⏰ 09:00–13:00 (PDT) \n\n09:00–09:30 – פתיחה והיכרות\n09:30–10:30 – חשיפת סיכונים דרך הדפדפן\n10:30–10:45 – הפסקה\n10:45–11:15 – שימוש בפרוקסי HTTP\n11:15–12:10 – מתקפות XSS\n12:10–13:00 – שאלות ותשובות\, שיתוף תובנות\n\n\nיום 2: מתקפות נפוצות ואמצעי הגנה\nיום שישי\, 7 באוגוסט 2020\n⏰ 09:00–13:00 (PDT) \n\n09:00–09:55 – SQL Injection\n09:55–10:45 – CSRF – מתקפה נגד בקשות מזויפות\n10:45–11:00 – הפסקה\n11:00–12:10 – HTTPS – כיצד לאכוף אבטחה תקינה\n12:10–12:40 – חשיפת מידע דרך מסגרות (Framework Disclosure)\n12:40–13:00 – דיון פתוח\n\n\nיום 3: מתקפות מתקדמות וכלים ייחודיים\nיום חמישי\, 13 באוגוסט 2020\n⏰ 09:00–13:00 (PDT) \n\n09:00–10:00 – פיצוח סיסמאות (Password Cracking)\n10:00–10:30 – איתור משתמשים (Account Enumeration)\n10:30–10:45 – הפסקה\n10:45–11:20 – סקריפטים עם Fiddler\n11:20–12:30 – Content Security Policy (CSP)\n12:30–13:00 – סיכום ושאלות\n\n\nיום 4: תקיפות אוטומטיות וסיכום\nיום שישי\, 14 באוגוסט 2020\n⏰ 09:00–13:00 (PDT) \n\n09:00–09:35 – השתלטות על סשנים (Session Hijacking)\n09:35–10:25 – הגנת משאבים (Subresource Integrity)\n10:25–10:40 – הפסקה\n10:40–11:10 – מתקפות Brute Force\n11:10–12:05 – אוטומציה של התקפות וסקירה רחבה\n12:05–13:00 – Q&A נרחב\, רפלקציה וסיכום\n\n\nפרטים חשובים:\n\nהסדנה מתקיימת אונליין\n‍ מתאימה למפתחים\, בודקים\, אנשי DevOps ומנהלי מוצר\nאין צורך בידע מוקדם באבטחת מידע\nכל משתתף יקבל תעודה רשמית מ-Smashing\n\n⚠️ הסדנה כבר מלאה\, אבל ניתן להירשם לרשימת ההמתנה כאן:\nלעמוד הסדנה באתר SmashingConf \n\nבניית אתרים עם אבטחה ברמה אחרת – אמסל דיגיטל\nבאמסל דיגיטל אנחנו לא רק בונים אתרים יפים – אנחנו בונים אתרים בטוחים.\nבין אם אתם עסק קטן או חברה עם דרישות מורכבות – אנחנו מבינים את חשיבות אבטחת המידע\, ושמים אותה בלב הפיתוח. \n✅ פיתוח מאובטח מ-Day One\n✅ הגנה על נתוני משתמשים ולקוחות\n✅ התאמה לרגולציות אבטחה\n✅ ביצועים גבוהים בלי להתפשר \nלפרטים נוספים:\nבניית אתרים מאובטחים עם אמסל דיגיטל
URL:https://www.amsale.co.il/event/security-scott-helme/
ATTACH;FMTTYPE=image/png:https://www.amsale.co.il/wp-content/uploads/2025/04/smashing-online-workshops.png
END:VEVENT
END:VCALENDAR